BEGIN:VCALENDAR
VERSION:2.0
PRODID:http://www.infomax-online.de/imxeventmanager/
METHOD:PUBLISH
BEGIN:VTIMEZONE
TZID:Europe/Berlin
TZURL:http://tzurl.org/zoneinfo-outlook/Europe/Berlin
X-LIC-LOCATION:Europe/Berlin
END:VTIMEZONE
BEGIN:VEVENT
UID:69e777207c3ea
LOCATION:Plattform Wendelsteinhaus , 83735 Bayrischzell
SUMMARY:Standkonzert auf dem Wendelstein mit der Musikkapelle Brannenburg
DESCRIPTION:Mit landestypischer und moderner Blasmusik sorgen die Musikkapellen der umliegenden Talgemeinden

beim Fr&uuml\;hschoppen auf der Bergterrasse f&uuml\;r Unterhaltung.

Beginn ca. 12:00 Uhr. Kostenlos. Nur bei sch&ouml\;nem Wetter.

&nbsp\;
URL;VALUE=URI:https://www.bayrischzell.de/
CLASS:PUBLIC
DTSTART:20260823T120000
DTSTAMP:20260421T150952
END:VEVENT
END:VCALENDAR