BEGIN:VCALENDAR
VERSION:2.0
PRODID:http://www.infomax-online.de/imxeventmanager/
METHOD:PUBLISH
BEGIN:VTIMEZONE
TZID:Europe/Berlin
TZURL:http://tzurl.org/zoneinfo-outlook/Europe/Berlin
X-LIC-LOCATION:Europe/Berlin
END:VTIMEZONE
BEGIN:VEVENT
UID:69eb9db6a2a17
LOCATION:Kirchplatz 2, 83735 Bayrischzell
SUMMARY:Wanderung zu den Tatzelwurm Wasserfällen
DESCRIPTION:In mehreren Stufen mit insgesamt &uuml\;ber 90 Metern Tiefe st&uuml\;rzt der rauschende Auerbach am Tatzlwurm ins Tal.

Bei dieser abwechslungsreichen Wanderung brechen wir in den Mittagsstunden von Bayrischzell aus auf und wandern

zun&auml\;chst etwa 300 H&ouml\;henmeter bergauf &uuml\;ber das Untere Sudelfeld und anschlie&szlig\;end hinab in das Tal des Auerbachs.

Wenn das Tal enger wird und sich allm&auml\;hlich zu einer beeindruckenden Klamm entwickelt\, ist unser Ziel nicht mehr weit: der gewaltige und tosende Tatzlwurm Wasserfall.

Als besonderes Natur- und Landschaftserlebnis ist diese Wanderung ein unbedingtes Muss.

Geschichten um den Mythos des feurigen Tatzlwurm-Drachen\, der hier einst lebte\, geben der Tour einen spannenden &ndash\; mystischen Touch.

Gehzeit ca. 2\,5 Stunden. R&uuml\;ckkehr ab Tatzlwurm mit der Wendelsteinringlinie nach Bayrischzell (f&uuml\;r G&auml\;ste mit der G&auml\;stekarte kostenlos).

Einkehrm&ouml\;glichkeiten in der Br&ouml\;slalm am Unteren Sudelfeld\, sowie in der Gastst&auml\;tte im Hotel Feuriger Tatzlwurm.

Etwas Trittsicherheit ist f&uuml\;r den Abstieg am Auerbach entlang erforderlich. Kinder in Begleitung ab 8 Jahre.

Die Wanderung findet bei jeder Witterung statt und kann sogar bei Regenwetter besonders beeindruckend sein.

Ausr&uuml\;stung: Wetterfeste Kleidung\, feste Schuhe\, Getr&auml\;nk.

Anmeldung und Treffpunkt in der Tourist-Info\, 08023 648.

Teilnahme mit G&auml\;stekarte kostenfrei\, Einheimische 10\,00 &euro\;\, sonst 20\,00 &euro\;.
URL;VALUE=URI:https://www.bayrischzell.de/
CLASS:PUBLIC
DTSTART:20260601T123000
DTSTAMP:20260424T184334
END:VEVENT
END:VCALENDAR