BEGIN:VCALENDAR
VERSION:2.0
PRODID:http://www.infomax-online.de/imxeventmanager/
METHOD:PUBLISH
BEGIN:VTIMEZONE
TZID:Europe/Berlin
TZURL:http://tzurl.org/zoneinfo-outlook/Europe/Berlin
X-LIC-LOCATION:Europe/Berlin
END:VTIMEZONE
BEGIN:VEVENT
UID:69e87a30e1d57
LOCATION:Tiroler Str. 70, 83735 Bayrischzell
SUMMARY:Kirchweih auf der Alm im Sillberghaus
DESCRIPTION:Zum Kirta ist sie Tradition: a zarte Ente mit Blaukraut und Kn&ouml\;del.
Am besten schmeckt sie nat&uuml\;rlich Bio frisch von unserm regionalen Partner und mit Blick &uuml\;bers
Ursprungstal. Also nehmt&acute\;s - je nach Wetter - Platz auf unserer Sonnenterrasse oder in den
gmiatlichen Stuben und lasst&acute\;s euch bei einem w&uuml\;rzigen Kirtabier unsere Kirchweih-Ente schmecken.

Vorbestellung &amp\; Reservierung unter feiern@almbad.de oder telefonisch unter 0179 5430060.
URL;VALUE=URI:https://www.bayrischzell.de/
CLASS:PUBLIC
DTSTART:20261018T120000
DTSTAMP:20260422T093512
END:VEVENT
END:VCALENDAR