BEGIN:VCALENDAR
VERSION:2.0
PRODID:http://www.infomax-online.de/imxeventmanager/
METHOD:PUBLISH
BEGIN:VTIMEZONE
TZID:Europe/Berlin
TZURL:http://tzurl.org/zoneinfo-outlook/Europe/Berlin
X-LIC-LOCATION:Europe/Berlin
END:VTIMEZONE
BEGIN:VEVENT
UID:69e78bcb6720f
LOCATION: , 83735 Bayrischzell
SUMMARY:Festbetrieb mit den Südtirolern: " Naturnser Böhmische"
DESCRIPTION:Z&uuml\;nftiges Zeltfest mit der S&uuml\;dtiroler Musi: Naturnser B&ouml\;hmische
URL;VALUE=URI:https://www.bayrischzell.de/
CLASS:PUBLIC
DTSTART:20260704T190000
DTSTAMP:20260421T163803
END:VEVENT
END:VCALENDAR