BEGIN:VCALENDAR
VERSION:2.0
PRODID:http://www.infomax-online.de/imxeventmanager/
METHOD:PUBLISH
BEGIN:VTIMEZONE
TZID:Europe/Berlin
TZURL:http://tzurl.org/zoneinfo-outlook/Europe/Berlin
X-LIC-LOCATION:Europe/Berlin
END:VTIMEZONE
BEGIN:VEVENT
UID:69e786e8386b2
LOCATION: , 83735 Bayrischzell
SUMMARY:Festgottesdienst zur 950 Jahr Feier mit Festzug zum Zelt
DESCRIPTION:Der Tag beginnt mit einem feierlichen Gottesdienst vor dem Rathaus. Nach einem Festzug durch den Ort geht es ins Festzelt

am Seeberg mit abwechslungsreichem Programm.
URL;VALUE=URI:https://www.bayrischzell.de/
CLASS:PUBLIC
DTSTART:20260705T100000
DTSTAMP:20260421T161712
END:VEVENT
END:VCALENDAR