BEGIN:VCALENDAR
VERSION:2.0
PRODID:http://www.infomax-online.de/imxeventmanager/
METHOD:PUBLISH
BEGIN:VTIMEZONE
TZID:Europe/Berlin
TZURL:http://tzurl.org/zoneinfo-outlook/Europe/Berlin
X-LIC-LOCATION:Europe/Berlin
END:VTIMEZONE
BEGIN:VEVENT
UID:69e789c55eb5e
LOCATION: , 83735 Bayrischzell
SUMMARY:Zeltfest mit Kesselfleischessen
DESCRIPTION:Kesselfleischessen im Festzelt

Es spielt die Bayrischzeller Musikkapelle
URL;VALUE=URI:https://www.bayrischzell.de/
CLASS:PUBLIC
DTSTART:20260706T190000
DTSTAMP:20260421T162925
END:VEVENT
END:VCALENDAR